BEGIN:VCALENDAR
VERSION:2.0
PRODID:-//Ohio Schools Council - ECPv6.15.20//NONSGML v1.0//EN
CALSCALE:GREGORIAN
METHOD:PUBLISH
X-ORIGINAL-URL:https://www.osconline.org
X-WR-CALDESC:Events for Ohio Schools Council
REFRESH-INTERVAL;VALUE=DURATION:PT1H
X-Robots-Tag:noindex
X-PUBLISHED-TTL:PT1H
BEGIN:VTIMEZONE
TZID:UTC
BEGIN:STANDARD
TZOFFSETFROM:+0000
TZOFFSETTO:+0000
TZNAME:UTC
DTSTART:20250101T000000
END:STANDARD
END:VTIMEZONE
BEGIN:VEVENT
DTSTART;TZID=UTC:20260513T080000
DTEND;TZID=UTC:20260513T100000
DTSTAMP:20260422T215519
CREATED:20250808T134859Z
LAST-MODIFIED:20250808T134859Z
UID:10000059-1778659200-1778666400@www.osconline.org
SUMMARY:Food Service Supervisors Network Meeting
DESCRIPTION:
URL:https://www.osconline.org/event/food-service-supervisors-network-meeting-5/
LOCATION:ESCNEO\, 6393 Oak Tree Boulevard\, Independence\, OH\, 44131\, United States
CATEGORIES:Network Event
END:VEVENT
BEGIN:VEVENT
DTSTART;TZID=UTC:20260515T120000
DTEND;TZID=UTC:20260515T150000
DTSTAMP:20260422T215519
CREATED:20250602T173702Z
LAST-MODIFIED:20260315T225315Z
UID:10000040-1778846400-1778857200@www.osconline.org
SUMMARY:Business Network Meeting and 2nd-Annual Utilities Update and Info Session
DESCRIPTION:
URL:https://www.osconline.org/event/business-network-meeting-copy/
LOCATION:ESCNEO\, 6393 Oak Tree Boulevard\, Independence\, OH\, 44131\, United States
CATEGORIES:Network Event
END:VEVENT
END:VCALENDAR