BEGIN:VCALENDAR
VERSION:2.0
PRODID:-//Ohio Schools Council - ECPv6.15.20//NONSGML v1.0//EN
CALSCALE:GREGORIAN
METHOD:PUBLISH
X-WR-CALNAME:Ohio Schools Council
X-ORIGINAL-URL:https://www.osconline.org
X-WR-CALDESC:Events for Ohio Schools Council
REFRESH-INTERVAL;VALUE=DURATION:PT1H
X-Robots-Tag:noindex
X-PUBLISHED-TTL:PT1H
BEGIN:VTIMEZONE
TZID:UTC
BEGIN:STANDARD
TZOFFSETFROM:+0000
TZOFFSETTO:+0000
TZNAME:UTC
DTSTART:20230101T000000
END:STANDARD
END:VTIMEZONE
BEGIN:VEVENT
DTSTART;TZID=UTC:20250225T110000
DTEND;TZID=UTC:20250225T130000
DTSTAMP:20260423T095830
CREATED:20240709T181444Z
LAST-MODIFIED:20240722T174642Z
UID:10000008-1740481200-1740488400@www.osconline.org
SUMMARY:Maintenance Supervisors Network Meeting
DESCRIPTION:
URL:https://www.osconline.org/event/maintenance-supervisors-meeting-2/
LOCATION:ESCNEO\, 6393 Oak Tree Boulevard\, Independence\, OH\, 44131\, United States
CATEGORIES:Member Event,Network Event
ORGANIZER;CN="Chad Welker":MAILTO:cwelker@osconline.org
END:VEVENT
BEGIN:VEVENT
DTSTART;TZID=UTC:20250213T123000
DTEND;TZID=UTC:20250213T143000
DTSTAMP:20260423T095830
CREATED:20240711T133411Z
LAST-MODIFIED:20240722T174613Z
UID:10000023-1739449800-1739457000@www.osconline.org
SUMMARY:Safety and Security Network Meeting
DESCRIPTION:
URL:https://www.osconline.org/event/safety-and-security-meeting-2/
LOCATION:ESCNEO\, 6393 Oak Tree Boulevard\, Independence\, OH\, 44131\, United States
CATEGORIES:Member Event,Network Event
ORGANIZER;CN="Chad Welker":MAILTO:cwelker@osconline.org
END:VEVENT
BEGIN:VEVENT
DTSTART;TZID=UTC:20250211T103000
DTEND;TZID=UTC:20250211T123000
DTSTAMP:20260423T095830
CREATED:20240709T182057Z
LAST-MODIFIED:20240722T174458Z
UID:10000012-1739269800-1739277000@www.osconline.org
SUMMARY:Transportation Supervisors Network Meeting
DESCRIPTION:
URL:https://www.osconline.org/event/transportation-supervisors-meeting-3/
LOCATION:ESCNEO\, 6393 Oak Tree Boulevard\, Independence\, OH\, 44131\, United States
CATEGORIES:Member Event,Network Event
ORGANIZER;CN="Chad Welker":MAILTO:cwelker@osconline.org
END:VEVENT
BEGIN:VEVENT
DTSTART;TZID=UTC:20250124T130000
DTEND;TZID=UTC:20250124T150000
DTSTAMP:20260423T095830
CREATED:20240709T180550Z
LAST-MODIFIED:20240813T143654Z
UID:10000004-1737723600-1737730800@www.osconline.org
SUMMARY:Business Network Meeting (Pre-Meeting Presentation at 12 pm)
DESCRIPTION:
URL:https://www.osconline.org/event/business-network-event-3/
LOCATION:ESCNEO\, 6393 Oak Tree Boulevard\, Independence\, OH\, 44131\, United States
CATEGORIES:Member Event,Network Event
ORGANIZER;CN="Chad Welker":MAILTO:cwelker@osconline.org
END:VEVENT
BEGIN:VEVENT
DTSTART;TZID=UTC:20250124T083000
DTEND;TZID=UTC:20250124T100000
DTSTAMP:20260423T095830
CREATED:20240711T132651Z
LAST-MODIFIED:20250113T002306Z
UID:10000019-1737707400-1737712800@www.osconline.org
SUMMARY:*Revised Date: Food Service Supervisors Network Meeting
DESCRIPTION:
URL:https://www.osconline.org/event/food-service-supervisors-meeting-3/
LOCATION:ESCNEO\, 6393 Oak Tree Boulevard\, Independence\, OH\, 44131\, United States
CATEGORIES:Member Event,Network Event
ORGANIZER;CN="Kelly Rocco":MAILTO:krocco@osconline.org
END:VEVENT
BEGIN:VEVENT
DTSTART;TZID=UTC:20241217T103000
DTEND;TZID=UTC:20241217T123000
DTSTAMP:20260423T095830
CREATED:20240709T181925Z
LAST-MODIFIED:20240722T174403Z
UID:10000011-1734431400-1734438600@www.osconline.org
SUMMARY:Transportation Supervisors Network Meeting
DESCRIPTION:
URL:https://www.osconline.org/event/transportation-supervisors-meeting-2/
LOCATION:ESCNEO\, 6393 Oak Tree Boulevard\, Independence\, OH\, 44131\, United States
CATEGORIES:Member Event,Network Event
ORGANIZER;CN="Chad Welker":MAILTO:cwelker@osconline.org
END:VEVENT
BEGIN:VEVENT
DTSTART;VALUE=DATE:20241211
DTEND;VALUE=DATE:20241214
DTSTAMP:20260423T095830
CREATED:20240708T192015Z
LAST-MODIFIED:20240711T134946Z
UID:10000001-1733875200-1734134399@www.osconline.org
SUMMARY:LEEMC Book Scan
DESCRIPTION:
URL:https://www.osconline.org/event/leemc-book-scan/
LOCATION:OSC\, 6394 Oak Tree Boulevard\, Independence\, OH\, 44131\, United States
CATEGORIES:Member Event
ORGANIZER;CN="Diane Ward":MAILTO:dward@osconline.org
END:VEVENT
BEGIN:VEVENT
DTSTART;TZID=UTC:20241115T103000
DTEND;TZID=UTC:20241115T123000
DTSTAMP:20260423T095830
CREATED:20240711T134454Z
LAST-MODIFIED:20240711T134454Z
UID:10000025-1731666600-1731673800@www.osconline.org
SUMMARY:OSC Fall Assembly Meeting
DESCRIPTION:
URL:https://www.osconline.org/event/osc-fall-assembly-meeting/
LOCATION:ESCNEO\, 6393 Oak Tree Boulevard\, Independence\, OH\, 44131\, United States
CATEGORIES:Member Event
ORGANIZER;CN="William Zelei":MAILTO:wzelei@osconline.org
END:VEVENT
BEGIN:VEVENT
DTSTART;TZID=UTC:20241114T123000
DTEND;TZID=UTC:20241114T143000
DTSTAMP:20260423T095830
CREATED:20240711T133237Z
LAST-MODIFIED:20240722T174334Z
UID:10000022-1731587400-1731594600@www.osconline.org
SUMMARY:Safety and Security Network Meeting
DESCRIPTION:
URL:https://www.osconline.org/event/safety-and-security-meeting/
LOCATION:ESCNEO\, 6393 Oak Tree Boulevard\, Independence\, OH\, 44131\, United States
CATEGORIES:Member Event,Network Event
ORGANIZER;CN="Chad Welker":MAILTO:cwelker@osconline.org
END:VEVENT
BEGIN:VEVENT
DTSTART;TZID=UTC:20241113T083000
DTEND;TZID=UTC:20241113T100000
DTSTAMP:20260423T095830
CREATED:20240709T182748Z
LAST-MODIFIED:20240722T173817Z
UID:10000016-1731486600-1731492000@www.osconline.org
SUMMARY:Food Service Supervisors Network Meeting
DESCRIPTION:
URL:https://www.osconline.org/event/food-service-supervisors-meeting-2/
LOCATION:ESCNEO\, 6393 Oak Tree Boulevard\, Independence\, OH\, 44131\, United States
CATEGORIES:Member Event,Network Event
ORGANIZER;CN="Kelly Rocco":MAILTO:krocco@osconline.org
END:VEVENT
BEGIN:VEVENT
DTSTART;TZID=UTC:20241029T083000
DTEND;TZID=UTC:20241029T120000
DTSTAMP:20260423T095830
CREATED:20240827T175815Z
LAST-MODIFIED:20240927T133129Z
UID:10000029-1730190600-1730203200@www.osconline.org
SUMMARY:OSC Fall Legal Seminar
DESCRIPTION:
URL:https://www.osconline.org/event/osc-fall-legal-seminar/
LOCATION:
END:VEVENT
BEGIN:VEVENT
DTSTART;TZID=UTC:20241018T130000
DTEND;TZID=UTC:20241018T150000
DTSTAMP:20260423T095830
CREATED:20240709T180457Z
LAST-MODIFIED:20240813T143712Z
UID:10000003-1729256400-1729263600@www.osconline.org
SUMMARY:Business Network Meeting (Pre-Meeting Presentation at 12 pm)
DESCRIPTION:
URL:https://www.osconline.org/event/business-network-event-2/
LOCATION:ESCNEO\, 6393 Oak Tree Boulevard\, Independence\, OH\, 44131\, United States
CATEGORIES:Member Event,Network Event
ORGANIZER;CN="Chad Welker":MAILTO:cwelker@osconline.org
END:VEVENT
BEGIN:VEVENT
DTSTART;TZID=UTC:20241015T103000
DTEND;TZID=UTC:20241015T123000
DTSTAMP:20260423T095830
CREATED:20240709T181801Z
LAST-MODIFIED:20240722T174227Z
UID:10000010-1728988200-1728995400@www.osconline.org
SUMMARY:Transportation Supervisors Network Meeting
DESCRIPTION:
URL:https://www.osconline.org/event/transportation-supervisors-meeting/
LOCATION:ESCNEO\, 6393 Oak Tree Boulevard\, Independence\, OH\, 44131\, United States
CATEGORIES:Member Event,Network Event
ORGANIZER;CN="Chad Welker":MAILTO:cwelker@osconline.org
END:VEVENT
BEGIN:VEVENT
DTSTART;TZID=UTC:20241010T110000
DTEND;TZID=UTC:20241010T130000
DTSTAMP:20260423T095830
CREATED:20240924T182557Z
LAST-MODIFIED:20240924T182557Z
UID:10000030-1728558000-1728565200@www.osconline.org
SUMMARY:Maintenance Supervisors Network Meeting
DESCRIPTION:
URL:https://www.osconline.org/event/maintenance-supervisors-network-meeting/
LOCATION:ESCNEO\, 6393 Oak Tree Boulevard\, Independence\, OH\, 44131\, United States
CATEGORIES:Network Event
END:VEVENT
BEGIN:VEVENT
DTSTART;TZID=UTC:20240918T083000
DTEND;TZID=UTC:20240918T110000
DTSTAMP:20260423T095830
CREATED:20240709T182618Z
LAST-MODIFIED:20240722T173735Z
UID:10000015-1726648200-1726657200@www.osconline.org
SUMMARY:Food Service Supervisors Network Meeting
DESCRIPTION:
URL:https://www.osconline.org/event/food-service-supervisors-meeting/
LOCATION:ESCNEO\, 6393 Oak Tree Boulevard\, Independence\, OH\, 44131\, United States
CATEGORIES:Member Event,Network Event
ORGANIZER;CN="Kelly Rocco":MAILTO:krocco@osconline.org
END:VEVENT
BEGIN:VEVENT
DTSTART;VALUE=DATE:20240918
DTEND;VALUE=DATE:20240921
DTSTAMP:20260423T095830
CREATED:20240711T134831Z
LAST-MODIFIED:20240711T135034Z
UID:10000027-1726617600-1726876799@www.osconline.org
SUMMARY:LEEMC Book Scan
DESCRIPTION:
URL:https://www.osconline.org/event/leemc-book-scan-2/
LOCATION:OSC\, 6394 Oak Tree Boulevard\, Independence\, OH\, 44131\, United States
CATEGORIES:Member Event
ORGANIZER;CN="Diane Ward":MAILTO:dward@osconline.org
END:VEVENT
BEGIN:VEVENT
DTSTART;TZID=UTC:20240906T130000
DTEND;TZID=UTC:20240906T150000
DTSTAMP:20260423T095830
CREATED:20240709T180213Z
LAST-MODIFIED:20240813T143608Z
UID:10000002-1725627600-1725634800@www.osconline.org
SUMMARY:Business Network Meeting (Pre-Meeting Presentation at 12 pm)
DESCRIPTION:
URL:https://www.osconline.org/event/business-network-event/
LOCATION:ESCNEO\, 6393 Oak Tree Boulevard\, Independence\, OH\, 44131\, United States
CATEGORIES:Member Event,Network Event
ORGANIZER;CN="Chad Welker":MAILTO:cwelker@osconline.org
END:VEVENT
BEGIN:VEVENT
DTSTART;TZID=UTC:20240716T080000
DTEND;TZID=UTC:20240716T170000
DTSTAMP:20260423T095830
CREATED:20240709T184247Z
LAST-MODIFIED:20240709T184247Z
UID:10000017-1721116800-1721149200@www.osconline.org
SUMMARY:Loaded Event
DESCRIPTION:
URL:https://www.osconline.org/event/loaded-event/
LOCATION:ESCNEO\, 6393 Oak Tree Boulevard\, Independence\, OH\, 44131\, United States
CATEGORIES:Member Event,Network Event,Public Event
ORGANIZER;CN="Chad Welker":MAILTO:cwelker@osconline.org
END:VEVENT
BEGIN:VEVENT
DTSTART;TZID=UTC:20240709T080000
DTEND;TZID=UTC:20240709T170000
DTSTAMP:20260423T095830
CREATED:20240709T181255Z
LAST-MODIFIED:20240709T181323Z
UID:10000007-1720512000-1720544400@www.osconline.org
SUMMARY:Maintenance Supervisors Meeting
DESCRIPTION:
URL:https://www.osconline.org/event/maintenance-supervisors-meeting/
LOCATION:ESCNEO\, 6393 Oak Tree Boulevard\, Independence\, OH\, 44131\, United States
CATEGORIES:Member Event,Network Event
ORGANIZER;CN="Chad Welker":MAILTO:cwelker@osconline.org
END:VEVENT
END:VCALENDAR