BEGIN:VCALENDAR
VERSION:2.0
PRODID:-//Ohio Schools Council - ECPv6.15.20//NONSGML v1.0//EN
CALSCALE:GREGORIAN
METHOD:PUBLISH
X-WR-CALNAME:Ohio Schools Council
X-ORIGINAL-URL:https://www.osconline.org
X-WR-CALDESC:Events for Ohio Schools Council
REFRESH-INTERVAL;VALUE=DURATION:PT1H
X-Robots-Tag:noindex
X-PUBLISHED-TTL:PT1H
BEGIN:VTIMEZONE
TZID:UTC
BEGIN:STANDARD
TZOFFSETFROM:+0000
TZOFFSETTO:+0000
TZNAME:UTC
DTSTART:20240101T000000
END:STANDARD
END:VTIMEZONE
BEGIN:VEVENT
DTSTART;TZID=UTC:20260313T120000
DTEND;TZID=UTC:20260313T150000
DTSTAMP:20260423T063102
CREATED:20250602T173608Z
LAST-MODIFIED:20260302T150344Z
UID:10000039-1773403200-1773414000@www.osconline.org
SUMMARY:Business Network Meeting
DESCRIPTION:
URL:https://www.osconline.org/event/business-network-meeting-5/
LOCATION:ESCNEO\, 6393 Oak Tree Boulevard\, Independence\, OH\, 44131\, United States
CATEGORIES:Network Event
END:VEVENT
BEGIN:VEVENT
DTSTART;TZID=UTC:20260311T080000
DTEND;TZID=UTC:20260311T100000
DTSTAMP:20260423T063102
CREATED:20260204T140347Z
LAST-MODIFIED:20260224T140211Z
UID:10000060-1773216000-1773223200@www.osconline.org
SUMMARY:Food Service Supervisors Network Meeting
DESCRIPTION:
URL:https://www.osconline.org/event/food-service-supervisors-network-meeting-6/
LOCATION:ESCNEO\, 6393 Oak Tree Boulevard\, Independence\, OH\, 44131\, United States
CATEGORIES:Network Event
END:VEVENT
BEGIN:VEVENT
DTSTART;TZID=UTC:20260224T110000
DTEND;TZID=UTC:20260224T130000
DTSTAMP:20260423T063102
CREATED:20250602T175420Z
LAST-MODIFIED:20250808T131436Z
UID:10000042-1771930800-1771938000@www.osconline.org
SUMMARY:Maintenance Supervisors Network Meeting
DESCRIPTION:
URL:https://www.osconline.org/event/maintenance-supervisors-network-meeting-3/
LOCATION:ESCNEO\, 6393 Oak Tree Boulevard\, Independence\, OH\, 44131\, United States
CATEGORIES:Network Event
END:VEVENT
BEGIN:VEVENT
DTSTART;TZID=UTC:20260212T083000
DTEND;TZID=UTC:20260212T103000
DTSTAMP:20260423T063102
CREATED:20250723T123330Z
LAST-MODIFIED:20260126T203525Z
UID:10000050-1770885000-1770892200@www.osconline.org
SUMMARY:Safety & Security Network Meeting
DESCRIPTION:
URL:https://www.osconline.org/event/safety-security-network-meeting-2/
LOCATION:ESCNEO\, 6393 Oak Tree Boulevard\, Independence\, OH\, 44131\, United States
CATEGORIES:Network Event
END:VEVENT
BEGIN:VEVENT
DTSTART;TZID=UTC:20260210T103000
DTEND;TZID=UTC:20260210T123000
DTSTAMP:20260423T063102
CREATED:20250724T134054Z
LAST-MODIFIED:20260120T142653Z
UID:10000055-1770719400-1770726600@www.osconline.org
SUMMARY:Transportation Supervisors Network Meeting
DESCRIPTION:
URL:https://www.osconline.org/event/transportation-supervisors-network-meeting-3/
LOCATION:ESCNEO\, 6393 Oak Tree Boulevard\, Independence\, OH\, 44131\, United States
CATEGORIES:Network Event
END:VEVENT
BEGIN:VEVENT
DTSTART;TZID=UTC:20260123T120000
DTEND;TZID=UTC:20260123T150000
DTSTAMP:20260423T063102
CREATED:20250602T132233Z
LAST-MODIFIED:20260122T152933Z
UID:10000038-1769169600-1769180400@www.osconline.org
SUMMARY:Business Network Meeting (Virtual Only)
DESCRIPTION:
URL:https://www.osconline.org/event/business-network-meeting-4/
LOCATION:OH
CATEGORIES:Network Event
END:VEVENT
BEGIN:VEVENT
DTSTART;TZID=UTC:20260114T080000
DTEND;TZID=UTC:20260114T100000
DTSTAMP:20260423T063102
CREATED:20250602T180045Z
LAST-MODIFIED:20260105T152032Z
UID:10000046-1768377600-1768384800@www.osconline.org
SUMMARY:Food Service Supervisors Network Meeting
DESCRIPTION:
URL:https://www.osconline.org/event/food-service-supervisors-network-meeting-3/
LOCATION:ESCNEO\, 6393 Oak Tree Boulevard\, Independence\, OH\, 44131\, United States
CATEGORIES:Network Event
END:VEVENT
BEGIN:VEVENT
DTSTART;TZID=UTC:20251209T103000
DTEND;TZID=UTC:20251209T123000
DTSTAMP:20260423T063102
CREATED:20250724T134034Z
LAST-MODIFIED:20251201T152028Z
UID:10000054-1765276200-1765283400@www.osconline.org
SUMMARY:Transportation Supervisors Network Meeting
DESCRIPTION:
URL:https://www.osconline.org/event/transportation-supervisors-network-meeting-2/
LOCATION:ESCNEO\, 6393 Oak Tree Boulevard\, Independence\, OH\, 44131\, United States
CATEGORIES:Network Event
END:VEVENT
BEGIN:VEVENT
DTSTART;TZID=UTC:20251112T080000
DTEND;TZID=UTC:20251112T100000
DTSTAMP:20260423T063102
CREATED:20250602T175934Z
LAST-MODIFIED:20251027T171459Z
UID:10000045-1762934400-1762941600@www.osconline.org
SUMMARY:Food Service Supervisors Network Meeting
DESCRIPTION:
URL:https://www.osconline.org/event/food-service-supervisors-network-meeting-2/
LOCATION:ESCNEO\, 6393 Oak Tree Boulevard\, Independence\, OH\, 44131\, United States
CATEGORIES:Network Event
END:VEVENT
BEGIN:VEVENT
DTSTART;TZID=UTC:20251030T083000
DTEND;TZID=UTC:20251030T130000
DTSTAMP:20260423T063102
CREATED:20250724T134722Z
LAST-MODIFIED:20251006T165029Z
UID:10000058-1761813000-1761829200@www.osconline.org
SUMMARY:Fall Legal Seminar
DESCRIPTION:Fall legal seminar \nThursday\, October 30; 8:30 am\nVirtual meeting \nIt’s time once again to mark your calendars for the OSC Fall Legal Seminar presented\nby OSC Preferred Partner\, Ennis Britton Co.\, LPA\, taking place on Tuesday\, October 30 at 8:30 am via ZOOM.  \nJoin us to learn more about pertinent legal and legislative updates that will help make the upcoming school year successful. \nThe Fall Seminar and Legal Update is free to Hotline Program Members. Topics TBD. \nRegistration materials and the seminar’s agenda\, to include current issues impacting school boards and their administrators\, will be available soon!
URL:https://www.osconline.org/event/fall-legal-seminar/
LOCATION:
END:VEVENT
BEGIN:VEVENT
DTSTART;TZID=UTC:20251028T110000
DTEND;TZID=UTC:20251028T130000
DTSTAMP:20260423T063102
CREATED:20250602T175254Z
LAST-MODIFIED:20250808T125723Z
UID:10000041-1761649200-1761656400@www.osconline.org
SUMMARY:Maintenance Supervisors Network Meeting
DESCRIPTION:
URL:https://www.osconline.org/event/maintenance-supervisors-network-meeting-2/
LOCATION:ESCNEO\, 6393 Oak Tree Boulevard\, Independence\, OH\, 44131\, United States
CATEGORIES:Network Event
END:VEVENT
BEGIN:VEVENT
DTSTART;TZID=UTC:20251017T120000
DTEND;TZID=UTC:20251017T150000
DTSTAMP:20260423T063102
CREATED:20250602T132053Z
LAST-MODIFIED:20250808T125407Z
UID:10000037-1760702400-1760713200@www.osconline.org
SUMMARY:Business Network Meeting
DESCRIPTION:
URL:https://www.osconline.org/event/business-network-meeting-3/
LOCATION:ESCNEO\, 6393 Oak Tree Boulevard\, Independence\, OH\, 44131\, United States
CATEGORIES:Network Event
END:VEVENT
BEGIN:VEVENT
DTSTART;TZID=UTC:20251014T094500
DTEND;TZID=UTC:20251014T123000
DTSTAMP:20260423T063102
CREATED:20250724T133456Z
LAST-MODIFIED:20250924T165234Z
UID:10000053-1760435100-1760445000@www.osconline.org
SUMMARY:Transportation Supervisors Network Meeting
DESCRIPTION:
URL:https://www.osconline.org/event/transportation-supervisors-network-meeting/
LOCATION:ESCNEO\, 6393 Oak Tree Boulevard\, Independence\, OH\, 44131\, United States
CATEGORIES:Network Event
END:VEVENT
BEGIN:VEVENT
DTSTART;TZID=UTC:20251009T083000
DTEND;TZID=UTC:20251009T103000
DTSTAMP:20260423T063102
CREATED:20250723T123218Z
LAST-MODIFIED:20250808T124635Z
UID:10000049-1759998600-1760005800@www.osconline.org
SUMMARY:Safety & Security Network Meeting
DESCRIPTION:
URL:https://www.osconline.org/event/safety-security-network-meeting/
LOCATION:ESCNEO\, 6393 Oak Tree Boulevard\, Independence\, OH\, 44131\, United States
CATEGORIES:Network Event
END:VEVENT
BEGIN:VEVENT
DTSTART;TZID=UTC:20250917T083000
DTEND;TZID=UTC:20250917T110000
DTSTAMP:20260423T063102
CREATED:20250602T175830Z
LAST-MODIFIED:20250826T165524Z
UID:10000044-1758097800-1758106800@www.osconline.org
SUMMARY:Food Service Supervisors Network Meeting
DESCRIPTION:
URL:https://www.osconline.org/event/food-service-supervisors-network-meeting/
LOCATION:ESCNEO\, 6393 Oak Tree Boulevard\, Independence\, OH\, 44131\, United States
CATEGORIES:Network Event
END:VEVENT
BEGIN:VEVENT
DTSTART;TZID=UTC:20250912T120000
DTEND;TZID=UTC:20250912T150000
DTSTAMP:20260423T063102
CREATED:20250602T131931Z
LAST-MODIFIED:20250826T165253Z
UID:10000036-1757678400-1757689200@www.osconline.org
SUMMARY:Business Network Meeting
DESCRIPTION:
URL:https://www.osconline.org/event/business-network-meeting-2/
LOCATION:ESCNEO\, 6393 Oak Tree Boulevard\, Independence\, OH\, 44131\, United States
CATEGORIES:Network Event
END:VEVENT
BEGIN:VEVENT
DTSTART;TZID=UTC:20250729T100000
DTEND;TZID=UTC:20250729T110000
DTSTAMP:20260423T063102
CREATED:20250602T131527Z
LAST-MODIFIED:20250602T180443Z
UID:10000035-1753783200-1753786800@www.osconline.org
SUMMARY:Business Networking Group: Zoom Summer Update
DESCRIPTION:
URL:https://www.osconline.org/event/business-networking-group-zoom-summer-update/
LOCATION:
CATEGORIES:Network Event
END:VEVENT
BEGIN:VEVENT
DTSTART;TZID=UTC:20250722T093000
DTEND;TZID=UTC:20250722T110000
DTSTAMP:20260423T063102
CREATED:20250602T180745Z
LAST-MODIFIED:20250602T180745Z
UID:10000048-1753176600-1753182000@www.osconline.org
SUMMARY:Transportation Supervisors Network Meeting: Summer Zoom Update
DESCRIPTION:
URL:https://www.osconline.org/event/transportation-supervisors-network-meeting-summer-zoom-update/
LOCATION:https://osconline-org.zoom.us/meeting/register/sVvF3yVmS6iAh8XsCrcUfQ
CATEGORIES:Network Event
END:VEVENT
BEGIN:VEVENT
DTSTART;TZID=UTC:20250618T080000
DTEND;TZID=UTC:20250618T170000
DTSTAMP:20260423T063102
CREATED:20250218T151237Z
LAST-MODIFIED:20250502T135411Z
UID:10000031-1750233600-1750266000@www.osconline.org
SUMMARY:Fresh Perspectives: Local Food and Inspired Learning for School Food Service Staff
DESCRIPTION:
URL:https://www.osconline.org/event/food-service-staff-professional-development-food-show/
LOCATION:Garfield Community Learning Center\, 1326 Brown Street\, Akron\, OH
END:VEVENT
BEGIN:VEVENT
DTSTART;TZID=UTC:20250617T103000
DTEND;TZID=UTC:20250617T123000
DTSTAMP:20260423T063102
CREATED:20240709T182334Z
LAST-MODIFIED:20240709T182334Z
UID:10000014-1750156200-1750163400@www.osconline.org
SUMMARY:Transportation Supervisors Meeting
DESCRIPTION:
URL:https://www.osconline.org/event/transportation-supervisors-meeting-5/
LOCATION:ESCNEO\, 6393 Oak Tree Boulevard\, Independence\, OH\, 44131\, United States
CATEGORIES:Member Event,Network Event
ORGANIZER;CN="Chad Welker":MAILTO:cwelker@osconline.org
END:VEVENT
BEGIN:VEVENT
DTSTART;VALUE=DATE:20250611
DTEND;VALUE=DATE:20250612
DTSTAMP:20260423T063102
CREATED:20250219T163651Z
LAST-MODIFIED:20250318T172542Z
UID:10000032-1749600000-1749686399@www.osconline.org
SUMMARY:Custodial and Maintenance Leadership Conference
DESCRIPTION:
URL:https://www.osconline.org/event/custodial-and-maintenance-leadership-conference/
LOCATION:Brecksville-Broadview Heights Middle School\, 6376 Mill Road\, Broadview Heights\, OH\, 44147\, United States
CATEGORIES:Public Event
END:VEVENT
BEGIN:VEVENT
DTSTART;TZID=UTC:20250522T123000
DTEND;TZID=UTC:20250522T143000
DTSTAMP:20260423T063102
CREATED:20240711T133511Z
LAST-MODIFIED:20240722T174940Z
UID:10000024-1747917000-1747924200@www.osconline.org
SUMMARY:Safety and Security Network Meeting
DESCRIPTION:
URL:https://www.osconline.org/event/safety-and-security-meeting-3/
LOCATION:ESCNEO\, 6393 Oak Tree Boulevard\, Independence\, OH\, 44131\, United States
CATEGORIES:Member Event,Network Event
ORGANIZER;CN="Chad Welker":MAILTO:cwelker@osconline.org
END:VEVENT
BEGIN:VEVENT
DTSTART;TZID=UTC:20250516T120000
DTEND;TZID=UTC:20250516T150000
DTSTAMP:20260423T063102
CREATED:20240709T180835Z
LAST-MODIFIED:20250402T144744Z
UID:10000006-1747396800-1747407600@www.osconline.org
SUMMARY:Business Network Meeting & P4S Electricity Capacity Summit
DESCRIPTION:
URL:https://www.osconline.org/event/business-network-meeting/
LOCATION:ESCNEO\, 6393 Oak Tree Boulevard\, Independence\, OH\, 44131\, United States
CATEGORIES:Member Event,Network Event
ORGANIZER;CN="Chad Welker":MAILTO:cwelker@osconline.org
END:VEVENT
BEGIN:VEVENT
DTSTART;TZID=UTC:20250514T083000
DTEND;TZID=UTC:20250514T100000
DTSTAMP:20260423T063102
CREATED:20240711T133005Z
LAST-MODIFIED:20250429T204342Z
UID:10000021-1747211400-1747216800@www.osconline.org
SUMMARY:Food Service Supervisors Network Meeting
DESCRIPTION:
URL:https://www.osconline.org/event/food-service-supervisors-meeting-4/
LOCATION:ESCNEO\, 6393 Oak Tree Boulevard\, Independence\, OH\, 44131\, United States
CATEGORIES:Member Event,Network Event
ORGANIZER;CN="Kelly Rocco":MAILTO:krocco@osconline.org
END:VEVENT
BEGIN:VEVENT
DTSTART;TZID=UTC:20250513T114500
DTEND;TZID=UTC:20250513T134500
DTSTAMP:20260423T063102
CREATED:20240711T134611Z
LAST-MODIFIED:20240711T134611Z
UID:10000026-1747136700-1747143900@www.osconline.org
SUMMARY:OSC Spring Assembly Meeting
DESCRIPTION:
URL:https://www.osconline.org/event/osc-spring-assembly-meeting/
LOCATION:ESCNEO\, 6393 Oak Tree Boulevard\, Independence\, OH\, 44131\, United States
CATEGORIES:Member Event
ORGANIZER;CN="William Zelei":MAILTO:wzelei@osconline.org
END:VEVENT
BEGIN:VEVENT
DTSTART;TZID=UTC:20250429T110000
DTEND;TZID=UTC:20250429T130000
DTSTAMP:20260423T063102
CREATED:20240709T181538Z
LAST-MODIFIED:20240722T174806Z
UID:10000009-1745924400-1745931600@www.osconline.org
SUMMARY:Maintenance Supervisors Network Meeting
DESCRIPTION:
URL:https://www.osconline.org/event/maintenance-supervisors-meeting-3/
LOCATION:ESCNEO\, 6393 Oak Tree Boulevard\, Independence\, OH\, 44131\, United States
CATEGORIES:Member Event,Network Event
ORGANIZER;CN="Chad Welker":MAILTO:cwelker@osconline.org
END:VEVENT
BEGIN:VEVENT
DTSTART;TZID=UTC:20250415T103000
DTEND;TZID=UTC:20250415T123000
DTSTAMP:20260423T063102
CREATED:20240709T182219Z
LAST-MODIFIED:20240722T174735Z
UID:10000013-1744713000-1744720200@www.osconline.org
SUMMARY:Transportation Supervisors Network Meeting
DESCRIPTION:
URL:https://www.osconline.org/event/transportation-supervisors-meeting-4/
LOCATION:ESCNEO\, 6393 Oak Tree Boulevard\, Independence\, OH\, 44131\, United States
CATEGORIES:Member Event,Network Event
ORGANIZER;CN="Chad Welker":MAILTO:cwelker@osconline.org
END:VEVENT
BEGIN:VEVENT
DTSTART;TZID=UTC:20250314T130000
DTEND;TZID=UTC:20250314T150000
DTSTAMP:20260423T063102
CREATED:20240709T180640Z
LAST-MODIFIED:20240813T143638Z
UID:10000005-1741957200-1741964400@www.osconline.org
SUMMARY:Business Network Meeting (Pre-Meeting Presentation at 12 pm)
DESCRIPTION:
URL:https://www.osconline.org/event/business-network-event-4/
LOCATION:ESCNEO\, 6393 Oak Tree Boulevard\, Independence\, OH\, 44131\, United States
CATEGORIES:Member Event,Network Event
ORGANIZER;CN="Chad Welker":MAILTO:cwelker@osconline.org
END:VEVENT
BEGIN:VEVENT
DTSTART;TZID=UTC:20250312T083000
DTEND;TZID=UTC:20250312T100000
DTSTAMP:20260423T063102
CREATED:20240711T132807Z
LAST-MODIFIED:20240722T174016Z
UID:10000020-1741768200-1741773600@www.osconline.org
SUMMARY:Food Service Supervisors Network Meeting
DESCRIPTION:
URL:https://www.osconline.org/event/food-service-supervisors-meeting-copy/
LOCATION:ESCNEO\, 6393 Oak Tree Boulevard\, Independence\, OH\, 44131\, United States
CATEGORIES:Member Event,Network Event
ORGANIZER;CN="Kelly Rocco":MAILTO:krocco@osconline.org
END:VEVENT
BEGIN:VEVENT
DTSTART;VALUE=DATE:20250312
DTEND;VALUE=DATE:20250315
DTSTAMP:20260423T063102
CREATED:20240711T135149Z
LAST-MODIFIED:20240711T135157Z
UID:10000028-1741737600-1741996799@www.osconline.org
SUMMARY:LEEMC Book Scan
DESCRIPTION:
URL:https://www.osconline.org/event/leemc-book-scan-copy/
LOCATION:OSC\, 6394 Oak Tree Boulevard\, Independence\, OH\, 44131\, United States
CATEGORIES:Member Event
ORGANIZER;CN="Diane Ward":MAILTO:dward@osconline.org
END:VEVENT
END:VCALENDAR