BEGIN:VCALENDAR
VERSION:2.0
PRODID:-//Ohio Schools Council - ECPv6.15.20//NONSGML v1.0//EN
CALSCALE:GREGORIAN
METHOD:PUBLISH
X-WR-CALNAME:Ohio Schools Council
X-ORIGINAL-URL:https://www.osconline.org
X-WR-CALDESC:Events for Ohio Schools Council
REFRESH-INTERVAL;VALUE=DURATION:PT1H
X-Robots-Tag:noindex
X-PUBLISHED-TTL:PT1H
BEGIN:VTIMEZONE
TZID:UTC
BEGIN:STANDARD
TZOFFSETFROM:+0000
TZOFFSETTO:+0000
TZNAME:UTC
DTSTART:20250101T000000
END:STANDARD
END:VTIMEZONE
BEGIN:VEVENT
DTSTART;TZID=UTC:20260610T074500
DTEND;TZID=UTC:20260610T143000
DTSTAMP:20260423T011920
CREATED:20260302T150939Z
LAST-MODIFIED:20260302T151430Z
UID:10000062-1781077500-1781101800@www.osconline.org
SUMMARY:4th-Annual Custodian Maintenance Leadership Conference
DESCRIPTION:
URL:https://www.osconline.org/event/4th-annual-custodian-maintenance-leadership-conference/
LOCATION:Orange High School\, 32000 Chagrin Blvd.\, Pepper Pike\, OH\, United States
CATEGORIES:Member Event
END:VEVENT
END:VCALENDAR