BEGIN:VCALENDAR
VERSION:2.0
PRODID:-//Ohio Schools Council - ECPv6.15.20//NONSGML v1.0//EN
CALSCALE:GREGORIAN
METHOD:PUBLISH
X-ORIGINAL-URL:https://www.osconline.org
X-WR-CALDESC:Events for Ohio Schools Council
REFRESH-INTERVAL;VALUE=DURATION:PT1H
X-Robots-Tag:noindex
X-PUBLISHED-TTL:PT1H
BEGIN:VTIMEZONE
TZID:UTC
BEGIN:STANDARD
TZOFFSETFROM:+0000
TZOFFSETTO:+0000
TZNAME:UTC
DTSTART:20250101T000000
END:STANDARD
END:VTIMEZONE
BEGIN:VEVENT
DTSTART;TZID=UTC:20260421T103000
DTEND;TZID=UTC:20260421T123000
DTSTAMP:20260422T215443
CREATED:20250724T134113Z
LAST-MODIFIED:20260407T150830Z
UID:10000056-1776767400-1776774600@www.osconline.org
SUMMARY:Transportation Supervisors Network Meeting
DESCRIPTION:
URL:https://www.osconline.org/event/transportation-supervisors-network-meeting-4/
LOCATION:ESCNEO\, 6393 Oak Tree Boulevard\, Independence\, OH\, 44131\, United States
CATEGORIES:Network Event
END:VEVENT
END:VCALENDAR