BEGIN:VCALENDAR
VERSION:2.0
PRODID:-//Ohio Schools Council - ECPv6.15.20//NONSGML v1.0//EN
CALSCALE:GREGORIAN
METHOD:PUBLISH
X-ORIGINAL-URL:https://www.osconline.org
X-WR-CALDESC:Events for Ohio Schools Council
REFRESH-INTERVAL;VALUE=DURATION:PT1H
X-Robots-Tag:noindex
X-PUBLISHED-TTL:PT1H
BEGIN:VTIMEZONE
TZID:UTC
BEGIN:STANDARD
TZOFFSETFROM:+0000
TZOFFSETTO:+0000
TZNAME:UTC
DTSTART:20240101T000000
END:STANDARD
END:VTIMEZONE
BEGIN:VEVENT
DTSTART;TZID=UTC:20250722T093000
DTEND;TZID=UTC:20250722T110000
DTSTAMP:20260423T130830
CREATED:20250602T180745Z
LAST-MODIFIED:20250602T180745Z
UID:10000048-1753176600-1753182000@www.osconline.org
SUMMARY:Transportation Supervisors Network Meeting: Summer Zoom Update
DESCRIPTION:
URL:https://www.osconline.org/event/transportation-supervisors-network-meeting-summer-zoom-update/
LOCATION:https://osconline-org.zoom.us/meeting/register/sVvF3yVmS6iAh8XsCrcUfQ
CATEGORIES:Network Event
END:VEVENT
END:VCALENDAR